BEGIN:VCALENDAR
VERSION:2.0
PRODID:-//wp-events-plugin.com//7.2.3.1//EN
TZID:Europe/Berlin
X-WR-TIMEZONE:Europe/Berlin
BEGIN:VEVENT
UID:1@teschner-rhetorik.de
DTSTART;TZID=Europe/Berlin:20260131T000000
DTEND;TZID=Europe/Berlin:20260205T000000
DTSTAMP:20251221T170644Z
URL:https://teschner-rhetorik.de/events/eine-kreative-form-fuer-kommunikat
 ion-in-institutionen-die-zukunftswerkstatt/
SUMMARY:Eine notwendige Form für Kommunikation in Institutionen: Die Zukun
 ftswerkstatt
DESCRIPTION:Die Zukunftswerkstatt ist eine Methode\, Kreativität und Fanta
 sie zu entdecken\, um mit neuen Ideen Lösungen für gesellschaftliche Pro
 bleme zu entwickeln. Zukunftswerkstätten dienen dazu\, die Autonomie von 
 denjenigen zu entwickeln\, die von Planung betroffen sind. Menschen könne
 n sich so aktiv an der Zukunftsplanung beteiligen und sich größere Handl
 ungsräume erschließen\, die in der Regel im lokalen Kontext angesiedelt 
 sind. Betroffene werden zu Handelnden. Eine Zukunftswerkstatt lässt sich 
 überall dort installieren\, wo es einen „stuck state“ gibt\, bei dem 
 Menschen sie mit herkömmlichen Mitteln nicht mehr weiterkommen. Besonders
  sinnvoll ist das Seminar bei Teilnehmern\, die gerade beginnen eine kreat
 ive Entscheidungsfindung aufzubauen. Die Anwendung bedarf einer genauen Vo
 rbereitung und Betreuung.\n\nZiel / Funktion\n\nÖffentlichkeit und Gesell
 schaft anregen\, Beratung von Verantwortlichen\n\ntypische Themen\n\nVorwe
 gnahme künftiger Abläufe\, Vorbereitung von Entscheidungen\n\nKontext\n\
 nWesentlich ist der Bezug zu einem begrenzten Bereich (Betrieb\, Region)\,
  um die Handlungsorientierung zu ermöglichen\n\ntypische Auftraggeber\n\n
 Verwaltungen\, Institutionen in der Wandlung\,\n\nDauer\n\n2 Tage\n\nTeiln
 ehmer (Anzahl und Auswahl)\n\n5–25 Personen\, die vom Auftraggeber ausge
 wählt werden\n\n&nbsp\;\n\nInhalte: Aussprache in Kleingruppen\, Wechsel 
 der Wahrnehmungsebenen\, Zieldefinition mittels mindmap (Buzan)\, Ideenfin
 dung mittels open space\, Teambuilding -Maßnahmen\, Simulation künftiger
  Gespräche\n\nDauer                      16 Ustd\, 2 
 Tage\n\nTeilnehmerzahl:       10 bis 25\n\nOrt:           
               4 Räume für Kleingruppenarbeit\n\nHonorar  
                  3400 € all inclusive
ATTACH;FMTTYPE=image/jpeg:https://teschner-rhetorik.de/wp-content/uploads/
 a_Eine_Kreative_Form_f.avif
END:VEVENT
BEGIN:VTIMEZONE
TZID:Europe/Berlin
X-LIC-LOCATION:Europe/Berlin
BEGIN:STANDARD
DTSTART:20251026T020000
TZOFFSETFROM:+0200
TZOFFSETTO:+0100
TZNAME:CET
END:STANDARD
END:VTIMEZONE
END:VCALENDAR