BEGIN:VCALENDAR
VERSION:2.0
PRODID:-//wp-events-plugin.com//7.2.3.1//EN
TZID:Europe/Berlin
X-WR-TIMEZONE:Europe/Berlin
BEGIN:VEVENT
UID:9@teschner-rhetorik.de
DTSTART;TZID=Europe/Berlin:20260302T090000
DTEND;TZID=Europe/Berlin:20260327T160000
DTSTAMP:20251221T185326Z
URL:https://teschner-rhetorik.de/events/kampfrhetorik-und-berufliche-kompe
 tenz-2/
SUMMARY:Kampfrhetorik und berufliche Kompetenz
DESCRIPTION:Es geht um die Klarheit in der Kommunikation und die eigene Pos
 ition authentisch zu beschreiben. So entsteht echte Kompetenz und Kontakt.
  Das "Ich muss... " entföllt.
ATTACH;FMTTYPE=image/jpeg:https://teschner-rhetorik.de/wp-content/uploads/
 Focussierung-Gong-Mitte-.png
END:VEVENT
BEGIN:VTIMEZONE
TZID:Europe/Berlin
X-LIC-LOCATION:Europe/Berlin
BEGIN:STANDARD
DTSTART:20251026T020000
TZOFFSETFROM:+0200
TZOFFSETTO:+0100
TZNAME:CET
END:STANDARD
END:VTIMEZONE
END:VCALENDAR