BEGIN:VCALENDAR
VERSION:2.0
PRODID:-//wp-events-plugin.com//7.2.3.1//EN
TZID:Europe/Berlin
X-WR-TIMEZONE:Europe/Berlin
BEGIN:VEVENT
UID:4@teschner-rhetorik.de
DTSTART;TZID=Europe/Berlin:20260601T090000
DTEND;TZID=Europe/Berlin:20260630T160000
DTSTAMP:20251222T153338Z
URL:https://teschner-rhetorik.de/events/kommunikation-koerpersprache-embod
 iment-analyse-weiterentwicklung-ausducksstaerke/
SUMMARY:Kommunikation + Körpersprache + Embodiment
DESCRIPTION:In diesem Kurs geht es um Analyse\, Souveränität und Natürli
 chkeit\,\n\nSie sollten die Bedeutung der Körpersprache nicht unterschät
 zen. Empathie und persönliche Einflussmöglichkeiten hängen direkt davon
  ab. Oft ist sogar der Kommunikationsstil wichtiger als die Inhalte. Wenn 
 Sie auf Mimik und Gesten auch bei Anderen achten\, brauchen Sie nicht mehr
  im „Dunklen zu tappen“ und gestalten die Kommunikation zu Kolleginnen
  und Kunden passend und selbstbewusst. Dabei hilft ein hohes MAß an Natü
 rlichkeit\, - auch für das persönliche Wohlgefühl.\n\nDer Dozent ist Le
 iter des „Theaterlabor Hannover“ und Trainer für Prozesskommunikation
 ®:\n\nKontakt\, Motivation\, Stressvermeidung: Ich bin o.k.+\, du bist o.
 k.+\n\n&nbsp\;\n\nInhalte:\n\n- den Raum bewusst nutzen und den Abstand ge
 stalten\n\n- Mimik und Haltung von Gesprächpartnern einschätzen (Ekman)\
 n\n- Unwahrheiten und innere Konflikte erkennen.\n\n- Sprechen\, Schauen u
 nd Stehen: absichtslose Aufmerksamkeit\n\n- Regeln für Gesten anwenden un
 d auch in Verhandlungen natürlich bleiben\n\n- Einzelpräsentation und Fe
 edback\n\n&nbsp\;\n\n&nbsp\;\n\nDauer\, Zeit:                  
        8 USTD\n\n&nbsp\;\n\nTeilnehmerzahl:             
    8 bis 14\n\n&nbsp\;\n\n&nbsp\;\n\nMedien/Ausstattung :        T
 afel/Whiteboard\, Materialkoffer\,\n\nRaum ohne Teppichboden\, Stuhlkreis\
 , wenige Tische\n\n&nbsp\;\n\n&nbsp\;\n\nHonorar:             
             1550 € all inclusive
ATTACH;FMTTYPE=image/jpeg:https://teschner-rhetorik.de/wp-content/uploads/
 Christoph-klein-Br-2.png
END:VEVENT
BEGIN:VTIMEZONE
TZID:Europe/Berlin
X-LIC-LOCATION:Europe/Berlin
BEGIN:DAYLIGHT
DTSTART:20260329T030000
TZOFFSETFROM:+0100
TZOFFSETTO:+0200
TZNAME:CEST
END:DAYLIGHT
END:VTIMEZONE
END:VCALENDAR