BEGIN:VCALENDAR
VERSION:2.0
PRODID:-//wp-events-plugin.com//7.2.3.1//EN
TZID:Europe/Berlin
X-WR-TIMEZONE:Europe/Berlin
BEGIN:VEVENT
UID:2@teschner-rhetorik.de
DTSTART;TZID=Europe/Berlin:20260121T091500
DTEND;TZID=Europe/Berlin:20260424T161500
DTSTAMP:20251222T155503Z
URL:https://teschner-rhetorik.de/events/rhetorik-und-improvisation-ein-kom
 munikationskurs-fuer-spontaneitaet-direktheit-und-wohlwollen/
SUMMARY:Trust your inner Wisdom:  Spontaneität und Improvisation in der Ko
 mmunikation
DESCRIPTION:Viele Gesprächssituationen sind nicht genau planbar. In diesem
  Kurs geht es um die Erweiterung des kommunikativen Repertoirs hin zur Fle
 xibilität.  Daraus ergibt sich die Chance\, neue Gedanken ins Spiel zu b
 ringen ohne das Thema abrupt zu wechseln. Der positive Umgang mit unvorher
 gesehen Situationen bietet die Möglichkeit\, sich sprachlich so an die Si
 tuation anzupassen\, dass Flow und Kontakt erhalten bleiben. Neue Gedanken
  kommen ins Spiel\, Offenheit und Kreativität sind erlaubt. Frau lässt d
 abei auch die Anderen gut aussehen\, zeigt ihre Dynamik und bleibt in Bewe
 gung.\n\nDas Seminar bietet Regeln\, freies\, fantasievolles Handeln im se
 lbst gestalteten Raum und die Bearbeitung von Informationspapieren mit Aus
 sprache. Wechsel vom rationalen zum emotionalen Kommunikationskanal ziehen
  sich durch den gesamten Kurs.\n\nDer Dozent ist Leiter des „Theaterlabo
 r Hannover“ und Trainer für Prozesskommunikation®: Kontakt\, Motivatio
 n\, Stressvermeidung: Ich bin o.k.+\, du bist o.k.+\n\n&nbsp\;\n\nInhalte\
 n\nNarrative entwickeln und Details berichten\n\nTempowechsel\, Raumgestal
 tung\, Ja-sagen\, Beziehung\,\n\nUnerwartetes annehmen und nicht alles wis
 sen\n\n6 Regeln für den Flow\n\nden Kommunikationskanal wechseln\n\nindiv
 iduelle Hinweise und wohlwollendes Feedback\n\n&nbsp\;\n\n&nbsp\;\n\nTeiln
 ehmer:                  7  bis 14\n\n&nbsp\;\n\nDauer\, Ze
 it:                   13. Juni 2026\n\n&nbsp\;\n\nOrt:     
                               Bildungsverein Hannover\n\n&n
 bsp\;\n\n&nbsp\;
ATTACH;FMTTYPE=image/jpeg:https://teschner-rhetorik.de/wp-content/uploads/
 theater-impro-zuordn-rhet-1.png
END:VEVENT
BEGIN:VTIMEZONE
TZID:Europe/Berlin
X-LIC-LOCATION:Europe/Berlin
BEGIN:STANDARD
DTSTART:20251026T020000
TZOFFSETFROM:+0200
TZOFFSETTO:+0100
TZNAME:CET
END:STANDARD
BEGIN:DAYLIGHT
DTSTART:20260329T030000
TZOFFSETFROM:+0100
TZOFFSETTO:+0200
TZNAME:CEST
END:DAYLIGHT
END:VTIMEZONE
END:VCALENDAR