BEGIN:VCALENDAR
VERSION:2.0
PRODID:-//wp-events-plugin.com//7.2.3.1//EN
TZID:Europe/Berlin
X-WR-TIMEZONE:Europe/Berlin
BEGIN:VEVENT
UID:5@teschner-rhetorik.de
DTSTART;TZID=Europe/Berlin:20260521T000000
DTEND;TZID=Europe/Berlin:20260528T000000
DTSTAMP:20251206T160320Z
URL:https://teschner-rhetorik.de/events/schwierige-gespraeche-neu-gestalte
 n-ein-kommunikationskurs/
SUMMARY:Schwierige Gespräche neu gestalten: ein Kommunikationskurs
DESCRIPTION:Im beruflichen Alltag sollten kommunikative Verhaltensregeln\n\
 nimmer mehr beachtet werden. Aufgrund von Mediennutzung\n\nund intensiver 
 Arbeitsbelastung werden persönliche Worte immer wichtiger.\n\nSachlichkei
 t wird begleitet von Sätzen\, die gleichzeitig Respekt und Distanz ermög
 lichen.\n\nSie lernen in diesem Seminar\, die Rahmenbedingungen zu betrach
 ten\n\nund einen Kommunikationsstil zu finden. der deutlich macht\,\n\nwof
 ür Sie stehen. Sie können auf diese Art so für sich sorgen\,\n\ndass Si
 e Sicherheit vermitteln und einen geregelten Ablauf gewährleisten.\n\nDas
  Seminar bietet den Austausch von Erfahrungen \, Einübung sprachlicher Te
 chniken\n\nund die Bearbeitung von Informationspapieren. Körpersprachlich
 e Aspekte finden\n\nebenso Berücksichtigung wie die Gestaltung der Situat
 ion.\n\nDer Leiter ist Leiter des „Theaterlabor Hannover“\n\nund Train
 er für Prozesskommunikation®: Kontakt\, Motivation\, Stressvermeidung:\n
 \nIch bin o.k.+\, du bist o.k.+\n\n&nbsp\;\n\nInhalte\n\n- Abläufe voraus
 sschauend planen\n\n- das Dramadreieck vermeiden\n\n- Überlegungen zu Per
 sonen und Situation\n\n- das Thema erkennen und bestimmen\n\nkonfrontieren
 de Fragen\, Separatorensätze\, Framing\, Tatsache/Meinung\, Killerphrasen
 \n\n- Präsenz\, Flow und Körperspannung\n\n&nbsp\;\n\nZeit:      
                                      
    8 Ustd\n\n&nbsp\;\n\nRaum:                      
       Raum ohne Teppichboden mit Flipchart\n\n&nbsp\;\n\nHonorar:  
                                      1
 550 € all inclusive
ATTACH;FMTTYPE=image/jpeg:https://teschner-rhetorik.de/wp-content/uploads/
 gespraeche.avif
END:VEVENT
BEGIN:VTIMEZONE
TZID:Europe/Berlin
X-LIC-LOCATION:Europe/Berlin
BEGIN:DAYLIGHT
DTSTART:20260329T030000
TZOFFSETFROM:+0100
TZOFFSETTO:+0200
TZNAME:CEST
END:DAYLIGHT
END:VTIMEZONE
END:VCALENDAR