BEGIN:VCALENDAR
VERSION:2.0
PRODID:-//wp-events-plugin.com//7.2.3.1//EN
TZID:Europe/Berlin
X-WR-TIMEZONE:Europe/Berlin
BEGIN:VEVENT
UID:10@teschner-rhetorik.de
DTSTART;TZID=Europe/Berlin:20260108T103000
DTEND;TZID=Europe/Berlin:20260108T153000
DTSTAMP:20251224T102548Z
URL:https://teschner-rhetorik.de/events/selbstverstaendnis-e/
SUMMARY:1. Selbstverständnis + 2.  Empathie
DESCRIPTION:Es geht um die sprachliche Darstellung eigener Ideen und Gefüh
 le.
ATTACH;FMTTYPE=image/jpeg:https://teschner-rhetorik.de/wp-content/uploads/
 Bruecke-neu-klein-823-1.png
END:VEVENT
BEGIN:VTIMEZONE
TZID:Europe/Berlin
X-LIC-LOCATION:Europe/Berlin
BEGIN:STANDARD
DTSTART:20251026T020000
TZOFFSETFROM:+0200
TZOFFSETTO:+0100
TZNAME:CET
END:STANDARD
END:VTIMEZONE
END:VCALENDAR